BEGIN:VCALENDAR
VERSION:2.0
PRODID:-//Ohr-O&#039;Keefe Museum of Art - ECPv6.15.20//NONSGML v1.0//EN
CALSCALE:GREGORIAN
METHOD:PUBLISH
X-WR-CALNAME:Ohr-O&#039;Keefe Museum of Art
X-ORIGINAL-URL:https://georgeohr.org
X-WR-CALDESC:Events for Ohr-O&#039;Keefe Museum of Art
REFRESH-INTERVAL;VALUE=DURATION:PT1H
X-Robots-Tag:noindex
X-PUBLISHED-TTL:PT1H
BEGIN:VTIMEZONE
TZID:America/Chicago
BEGIN:DAYLIGHT
TZOFFSETFROM:-0600
TZOFFSETTO:-0500
TZNAME:CDT
DTSTART:20250309T080000
END:DAYLIGHT
BEGIN:STANDARD
TZOFFSETFROM:-0500
TZOFFSETTO:-0600
TZNAME:CST
DTSTART:20251102T070000
END:STANDARD
BEGIN:DAYLIGHT
TZOFFSETFROM:-0600
TZOFFSETTO:-0500
TZNAME:CDT
DTSTART:20260308T080000
END:DAYLIGHT
BEGIN:STANDARD
TZOFFSETFROM:-0500
TZOFFSETTO:-0600
TZNAME:CST
DTSTART:20261101T070000
END:STANDARD
BEGIN:DAYLIGHT
TZOFFSETFROM:-0600
TZOFFSETTO:-0500
TZNAME:CDT
DTSTART:20270314T080000
END:DAYLIGHT
BEGIN:STANDARD
TZOFFSETFROM:-0500
TZOFFSETTO:-0600
TZNAME:CST
DTSTART:20271107T070000
END:STANDARD
END:VTIMEZONE
BEGIN:VEVENT
DTSTART;TZID=America/Chicago:20260419T153000
DTEND;TZID=America/Chicago:20260419T170000
DTSTAMP:20260423T032551
CREATED:20260114T230120Z
LAST-MODIFIED:20260114T230348Z
UID:10000683-1776612600-1776618000@georgeohr.org
SUMMARY:Family Crafternoon |  Geometric Gems
DESCRIPTION:Geometric Gems – A Paper Folding Craft Class\nDiscover the beauty of shape and symmetry in Geometric Gems\, a creative craft class focused on making stunning paper gems and geodes through folding and layering techniques. Participants will learn how flat sheets of paper can be transformed into faceted\, three-dimensional forms inspired by crystals and gemstones. \nThis class is open to all skill levels and is perfect for anyone who enjoys hands-on creativity\, design\, and mindful making. All materials will be provided\, and finished pieces can be used as decorative accents\, art displays\, or imaginative play objects. \nJoin us for a relaxing and inspiring session where math meets art—and leave with your own collection of sparkling paper creations! \nInstructor: Tressie Fellman \nRefunds less credit card fees are available up to 7 days before the class begins. After that period\, the fee is non-refundable. However\, you may transfer your ticket to a friend.
URL:https://georgeohr.org/event/family-crafternoon-4-19/
LOCATION:Museum Welcome Center\, 386 Beach Blvd\, Biloxi\, MS\, 39530\, United States
CATEGORIES:Art Classes,Family Art
ATTACH;FMTTYPE=image/jpeg:https://georgeohr.org/wp-content/uploads/2026/01/geometric-gems.jpg
END:VEVENT
END:VCALENDAR