BEGIN:VCALENDAR
VERSION:2.0
PRODID:-//Ohr-O&#039;Keefe Museum of Art - ECPv6.15.20//NONSGML v1.0//EN
CALSCALE:GREGORIAN
METHOD:PUBLISH
X-ORIGINAL-URL:https://georgeohr.org
X-WR-CALDESC:Events for Ohr-O&#039;Keefe Museum of Art
REFRESH-INTERVAL;VALUE=DURATION:PT1H
X-Robots-Tag:noindex
X-PUBLISHED-TTL:PT1H
BEGIN:VTIMEZONE
TZID:America/Chicago
BEGIN:DAYLIGHT
TZOFFSETFROM:-0600
TZOFFSETTO:-0500
TZNAME:CDT
DTSTART:20250309T080000
END:DAYLIGHT
BEGIN:STANDARD
TZOFFSETFROM:-0500
TZOFFSETTO:-0600
TZNAME:CST
DTSTART:20251102T070000
END:STANDARD
BEGIN:DAYLIGHT
TZOFFSETFROM:-0600
TZOFFSETTO:-0500
TZNAME:CDT
DTSTART:20260308T080000
END:DAYLIGHT
BEGIN:STANDARD
TZOFFSETFROM:-0500
TZOFFSETTO:-0600
TZNAME:CST
DTSTART:20261101T070000
END:STANDARD
BEGIN:DAYLIGHT
TZOFFSETFROM:-0600
TZOFFSETTO:-0500
TZNAME:CDT
DTSTART:20270314T080000
END:DAYLIGHT
BEGIN:STANDARD
TZOFFSETFROM:-0500
TZOFFSETTO:-0600
TZNAME:CST
DTSTART:20271107T070000
END:STANDARD
END:VTIMEZONE
BEGIN:VEVENT
DTSTART;TZID=America/Chicago:20260703T100000
DTEND;TZID=America/Chicago:20260703T130000
DTSTAMP:20260423T093809
CREATED:20260420T151354Z
LAST-MODIFIED:20260420T151354Z
UID:10000770-1783072800-1783083600@georgeohr.org
SUMMARY:Introduction to Etching Workshop
DESCRIPTION:Printmaking Studio presents: Introduction to Etching Workshop\nYou too can make beautiful hand made etching prints the same way that Rembrandt made his famous masterworks! Learn how a line drawing on a metal plate is turned into a printing plate that can then be printed on paper. Learn how to etch your zinc plate\, and pull a print from it on our press using traditional intaglio materials and methods under Master Printmaker\, Michael Richardson. \nThis single session workshop teaches how to ground a plate\, draw on it\, etch it\, and print it. All materials for this workshop provided. This workshop is the first\, in a series of sessions covering various traditional hand printmaking methods such as etching\, aquatint\, engraving\, and relief printmaking. Introduction to Etching Workshop #1 is also required to participate in future Printmaking Studio Open Workshop Sessions held throughout the year to understand how to use the press and other equipment safely. \nTime: Friday 10am-1pm\nInstructor: Michael Richardson\nLevel: Ages 18+ No prior experience necessary \nRefunds less credit card fees are available up to 7 days before the class begins. After that period\, the fee is non-refundable. However\, you may transfer your ticket to a friend.
URL:https://georgeohr.org/event/etching-7-3/
LOCATION:2nd Floor Biloxi Center for Ceramics\, 386 Beach Boulevard\, Biloxi\, MS\, 39530\, United States
CATEGORIES:Adult Art,Art Classes
ATTACH;FMTTYPE=image/jpeg:https://georgeohr.org/wp-content/uploads/2026/02/etching-michael-richardson.jpg
ORGANIZER;CN="Darryl ODonnell":MAILTO:ceramics@georgeohr.org
END:VEVENT
BEGIN:VEVENT
DTSTART;TZID=America/Chicago:20260717T100000
DTEND;TZID=America/Chicago:20260717T130000
DTSTAMP:20260423T093809
CREATED:20260420T162529Z
LAST-MODIFIED:20260420T175318Z
UID:10000771-1784282400-1784293200@georgeohr.org
SUMMARY:Etching Workshop: Christmas in July
DESCRIPTION:Christmas in July: Etched Christmas Cards : 3 Sessions\nParticipants will make original 4″ x 6″ etchings and print them for Christmas cards. ( A6 size ). Etching methods will include both line etching and aquatint. 8 person maximum for this class. \nClass fee includes *basic supplies only. Participants who would like to print extra cards during the workshop and use special colors of ink\, envelopes. etc. may order these supplies in advance of class at their own expense. Please contact instructor with any questions. \n* Class fee includes zinc plate\, 1 \, 22″ x 30″ print paper\, 4 envelopes and all basic shop supplies. \nTime: Friday 10am-1pm – July 17\, 24 & 31\nInstructor: Michael Richardson | zenchops59@yahoo.com\nLevel: Ages 18+ No prior experience necessary \nRefunds less credit card fees are available up to 7 days before the class begins. After that period\, the fee is non-refundable. However\, you may transfer your ticket to a friend.
URL:https://georgeohr.org/event/etching-xmas/
LOCATION:2nd Floor Biloxi Center for Ceramics\, 386 Beach Boulevard\, Biloxi\, MS\, 39530\, United States
CATEGORIES:Adult Art,Art Classes
ATTACH;FMTTYPE=image/jpeg:https://georgeohr.org/wp-content/uploads/2026/04/christmas-card-print.jpeg
ORGANIZER;CN="Darryl ODonnell":MAILTO:ceramics@georgeohr.org
END:VEVENT
BEGIN:VEVENT
DTSTART;TZID=America/Chicago:20260718T130000
DTEND;TZID=America/Chicago:20260718T160000
DTSTAMP:20260423T093809
CREATED:20260408T161105Z
LAST-MODIFIED:20260408T161105Z
UID:10000769-1784379600-1784390400@georgeohr.org
SUMMARY:Pine Needle Basket Workshop
DESCRIPTION:Celebrate American Heritage with Pine Needle Basketry\nIn this 3 hour class\, you’ll learn to make a beautiful and unique 3” to 5” basket with longleaf pine needles and waxed sinew.  No prior experience is necessary\, only patience and pine needles are the main ingredients for this natural and versatile basket. What better way to keep tuned to Mother Nature than to gather fragrant pine needles from her forest floor and sew them into baskets of natural beauty. All supplies for this class will be furnished by the instructor.\n\nTime: 1:00 – 4:00pm (2nd floor Biloxi Center for Ceramics)\nInstructor: Tracey Pace\nLevel: Ages 18+ no experience necessary\nInstructor “Basket Case”\nStacey Pace is a retired educator from the Lamar County School District. She and her husband moved to Ocean Springs over 4 years ago. She has been making pine needles baskets for over 12 years and was even chosen “Best in Show” at the Fairhope Arts Festival in 2012. \nRefunds less credit card fee are available up to 7 days before the class begins. After that period\, the fee is non-refundable. However\, you may transfer your ticket to a friend.
URL:https://georgeohr.org/event/pine-needle-basket-7-18/
LOCATION:2nd Floor Biloxi Center for Ceramics\, 386 Beach Boulevard\, Biloxi\, MS\, 39530\, United States
CATEGORIES:Adult Art,Art Classes
ATTACH;FMTTYPE=image/jpeg:https://georgeohr.org/wp-content/uploads/2025/01/pine-needle-baskets.jpeg
ORGANIZER;CN="Darryl ODonnell":MAILTO:ceramics@georgeohr.org
END:VEVENT
END:VCALENDAR