BEGIN:VCALENDAR
VERSION:2.0
PRODID:-//Ohr-O&#039;Keefe Museum of Art - ECPv6.15.20//NONSGML v1.0//EN
CALSCALE:GREGORIAN
METHOD:PUBLISH
X-WR-CALNAME:Ohr-O&#039;Keefe Museum of Art
X-ORIGINAL-URL:https://georgeohr.org
X-WR-CALDESC:Events for Ohr-O&#039;Keefe Museum of Art
REFRESH-INTERVAL;VALUE=DURATION:PT1H
X-Robots-Tag:noindex
X-PUBLISHED-TTL:PT1H
BEGIN:VTIMEZONE
TZID:America/Chicago
BEGIN:DAYLIGHT
TZOFFSETFROM:-0600
TZOFFSETTO:-0500
TZNAME:CDT
DTSTART:20250309T080000
END:DAYLIGHT
BEGIN:STANDARD
TZOFFSETFROM:-0500
TZOFFSETTO:-0600
TZNAME:CST
DTSTART:20251102T070000
END:STANDARD
BEGIN:DAYLIGHT
TZOFFSETFROM:-0600
TZOFFSETTO:-0500
TZNAME:CDT
DTSTART:20260308T080000
END:DAYLIGHT
BEGIN:STANDARD
TZOFFSETFROM:-0500
TZOFFSETTO:-0600
TZNAME:CST
DTSTART:20261101T070000
END:STANDARD
BEGIN:DAYLIGHT
TZOFFSETFROM:-0600
TZOFFSETTO:-0500
TZNAME:CDT
DTSTART:20270314T080000
END:DAYLIGHT
BEGIN:STANDARD
TZOFFSETFROM:-0500
TZOFFSETTO:-0600
TZNAME:CST
DTSTART:20271107T070000
END:STANDARD
END:VTIMEZONE
BEGIN:VEVENT
DTSTART;TZID=America/Chicago:20260418T130000
DTEND;TZID=America/Chicago:20260418T160000
DTSTAMP:20260423T060835
CREATED:20260123T184517Z
LAST-MODIFIED:20260123T210531Z
UID:10000701-1776517200-1776528000@georgeohr.org
SUMMARY:Pine Needle Basket Workshop
DESCRIPTION:Celebrate American Heritage with Pine Needle Basketry\nIn this 3 hour class\, you’ll learn to make a beautiful and unique 3” to 5” basket with longleaf pine needles and waxed sinew.  No prior experience is necessary\, only patience and pine needles are the main ingredients for this natural and versatile basket. What better way to keep tuned to Mother Nature than to gather fragrant pine needles from her forest floor and sew them into baskets of natural beauty. All supplies for this class will be furnished by the instructor.\n\nTime: 1:00 – 4:00pm (2nd floor Biloxi Center for Ceramics)\nInstructor: Tracey Pace\nLevel: Ages 18+ no experience necessary\nInstructor “Basket Case”\nStacey Pace is a retired educator from the Lamar County School District. She and her husband moved to Ocean Springs over 4 years ago. She has been making pine needles baskets for over 12 years and was even chosen “Best in Show” at the Fairhope Arts Festival in 2012. \nRefunds less credit card fee are available up to 7 days before the class begins. After that period\, the fee is non-refundable. However\, you may transfer your ticket to a friend.
URL:https://georgeohr.org/event/pine-needle-basket-4-18/
LOCATION:2nd Floor Biloxi Center for Ceramics\, 386 Beach Boulevard\, Biloxi\, MS\, 39530\, United States
CATEGORIES:Adult Art,Art Classes
ATTACH;FMTTYPE=image/jpeg:https://georgeohr.org/wp-content/uploads/2025/01/pine-needle-baskets.jpeg
ORGANIZER;CN="Darryl ODonnell":MAILTO:ceramics@georgeohr.org
END:VEVENT
BEGIN:VEVENT
DTSTART;TZID=America/Chicago:20260410T173000
DTEND;TZID=America/Chicago:20260410T193000
DTSTAMP:20260423T060835
CREATED:20260119T150408Z
LAST-MODIFIED:20260119T150408Z
UID:10000691-1775842200-1775849400@georgeohr.org
SUMMARY:Crafts & Drafts April Showers
DESCRIPTION:Crafts & Drafts\nBring a little magic to a rainy day at April Showers\, an adult craft night where you’ll make whimsical raincloud mobiles! Using soft fabrics\, paper\, string\, and other decorative materials\, participants will create charming cloud designs complete with dangling raindrops that add movement and texture. \nThis hands-on evening is perfect for relaxing\, exploring your creativity\, and crafting something beautiful for your home. All supplies are provided\, and no experience is necessary—just bring your imagination and a love of crafty fun. Let your creativity pour and leave with a mobile that brings the beauty of a spring shower indoors! \nInstructor: Tressie Fellman \nRefunds less credit card fees are available up to 7 days before the class begins. After that period\, the fee is non-refundable. However\, you may transfer your ticket to a friend.
URL:https://georgeohr.org/event/crafts-drafts-4-10/
LOCATION:Museum Welcome Center\, 386 Beach Blvd\, Biloxi\, MS\, 39530\, United States
CATEGORIES:Adult Art,Art Classes,Ohr O'Keefe Museum Event
ATTACH;FMTTYPE=image/jpeg:https://georgeohr.org/wp-content/uploads/2026/01/april-shower.jpg
END:VEVENT
END:VCALENDAR