BEGIN:VCALENDAR
VERSION:2.0
PRODID:-//Ohr-O&#039;Keefe Museum of Art - ECPv6.15.20//NONSGML v1.0//EN
CALSCALE:GREGORIAN
METHOD:PUBLISH
X-ORIGINAL-URL:https://georgeohr.org
X-WR-CALDESC:Events for Ohr-O&#039;Keefe Museum of Art
REFRESH-INTERVAL;VALUE=DURATION:PT1H
X-Robots-Tag:noindex
X-PUBLISHED-TTL:PT1H
BEGIN:VTIMEZONE
TZID:America/Chicago
BEGIN:DAYLIGHT
TZOFFSETFROM:-0600
TZOFFSETTO:-0500
TZNAME:CDT
DTSTART:20250309T080000
END:DAYLIGHT
BEGIN:STANDARD
TZOFFSETFROM:-0500
TZOFFSETTO:-0600
TZNAME:CST
DTSTART:20251102T070000
END:STANDARD
BEGIN:DAYLIGHT
TZOFFSETFROM:-0600
TZOFFSETTO:-0500
TZNAME:CDT
DTSTART:20260308T080000
END:DAYLIGHT
BEGIN:STANDARD
TZOFFSETFROM:-0500
TZOFFSETTO:-0600
TZNAME:CST
DTSTART:20261101T070000
END:STANDARD
BEGIN:DAYLIGHT
TZOFFSETFROM:-0600
TZOFFSETTO:-0500
TZNAME:CDT
DTSTART:20270314T080000
END:DAYLIGHT
BEGIN:STANDARD
TZOFFSETFROM:-0500
TZOFFSETTO:-0600
TZNAME:CST
DTSTART:20271107T070000
END:STANDARD
END:VTIMEZONE
BEGIN:VEVENT
DTSTART;TZID=America/Chicago:20260425T090000
DTEND;TZID=America/Chicago:20260425T163000
DTSTAMP:20260423T050728
CREATED:20260323T172337Z
LAST-MODIFIED:20260323T172930Z
UID:10000734-1777107600-1777134600@georgeohr.org
SUMMARY:Plein Air workshop with Jerrod Partridge
DESCRIPTION:Join artist-in-residence\, Jerrod Partridge\, for a workshop focused on painting outdoors on the beautiful campus of the Ohr-O’Keefe Museum of Art. Participants are welcome to use a medium of their choice as Jerrod assists them in quickly establishing color relationships to capture the particular light of that day. All experience levels are welcome. Materials are not included. \nwww.jerrodpartridge.com \nwww.palmetteshop.com
URL:https://georgeohr.org/event/plein-air-workshop-with-jerrod-partridge/
LOCATION:Ohr O’Keefe Museum of Art\, 386 Beach Blvd\, Biloxi\, MS\, 39530\, United States
CATEGORIES:Adult Art,Art Classes
ATTACH;FMTTYPE=image/jpeg:https://georgeohr.org/wp-content/uploads/2026/03/jerrod-partridge-3-rotated.jpeg
ORGANIZER;CN="Amanda Wymer":MAILTO:development@georgeohr.org
END:VEVENT
END:VCALENDAR