BEGIN:VCALENDAR
VERSION:2.0
PRODID:-//Ohr-O&#039;Keefe Museum of Art - ECPv6.15.20//NONSGML v1.0//EN
CALSCALE:GREGORIAN
METHOD:PUBLISH
X-ORIGINAL-URL:https://georgeohr.org
X-WR-CALDESC:Events for Ohr-O&#039;Keefe Museum of Art
REFRESH-INTERVAL;VALUE=DURATION:PT1H
X-Robots-Tag:noindex
X-PUBLISHED-TTL:PT1H
BEGIN:VTIMEZONE
TZID:America/Chicago
BEGIN:DAYLIGHT
TZOFFSETFROM:-0600
TZOFFSETTO:-0500
TZNAME:CDT
DTSTART:20250309T080000
END:DAYLIGHT
BEGIN:STANDARD
TZOFFSETFROM:-0500
TZOFFSETTO:-0600
TZNAME:CST
DTSTART:20251102T070000
END:STANDARD
BEGIN:DAYLIGHT
TZOFFSETFROM:-0600
TZOFFSETTO:-0500
TZNAME:CDT
DTSTART:20260308T080000
END:DAYLIGHT
BEGIN:STANDARD
TZOFFSETFROM:-0500
TZOFFSETTO:-0600
TZNAME:CST
DTSTART:20261101T070000
END:STANDARD
BEGIN:DAYLIGHT
TZOFFSETFROM:-0600
TZOFFSETTO:-0500
TZNAME:CDT
DTSTART:20270314T080000
END:DAYLIGHT
BEGIN:STANDARD
TZOFFSETFROM:-0500
TZOFFSETTO:-0600
TZNAME:CST
DTSTART:20271107T070000
END:STANDARD
END:VTIMEZONE
BEGIN:VEVENT
DTSTART;TZID=America/Chicago:20260326T173000
DTEND;TZID=America/Chicago:20260326T193000
DTSTAMP:20260423T045903
CREATED:20260116T163842Z
LAST-MODIFIED:20260116T163842Z
UID:10000688-1774546200-1774553400@georgeohr.org
SUMMARY:Family Craft Night : Birds of a Feather
DESCRIPTION:Flock together for Birds of a Feather\, a family craft night where creativity takes wing! Families will create colorful\, quirky birds using scrap paper and a variety of found and recycled materials. From bright feathers to funny beaks and patterned wings\, each bird will be as unique as its maker.\nThis hands-on activity celebrates imagination\, reuse\, and working together while turning everyday scraps into something beautiful. No crafting experience is needed\, and all supplies are provided. Perfect for families of all ages—come craft\, create\, and let your creativity soar! \nInstructor: Tressie Fellman \nRefunds less credit card fees are available up to 7 days before the class begins. After that period\, the fee is non-refundable. However\, you may transfer your ticket to a friend.
URL:https://georgeohr.org/event/family-craft-night-3-26/
LOCATION:Museum Welcome Center\, 386 Beach Blvd\, Biloxi\, MS\, 39530\, United States
CATEGORIES:Art Classes,Family Art
ATTACH;FMTTYPE=image/jpeg:https://georgeohr.org/wp-content/uploads/2026/01/birds.jpg
END:VEVENT
END:VCALENDAR