BEGIN:VCALENDAR
VERSION:2.0
PRODID:-//Ohr-O&#039;Keefe Museum of Art - ECPv6.15.20//NONSGML v1.0//EN
CALSCALE:GREGORIAN
METHOD:PUBLISH
X-WR-CALNAME:Ohr-O&#039;Keefe Museum of Art
X-ORIGINAL-URL:https://georgeohr.org
X-WR-CALDESC:Events for Ohr-O&#039;Keefe Museum of Art
REFRESH-INTERVAL;VALUE=DURATION:PT1H
X-Robots-Tag:noindex
X-PUBLISHED-TTL:PT1H
BEGIN:VTIMEZONE
TZID:America/Chicago
BEGIN:DAYLIGHT
TZOFFSETFROM:-0600
TZOFFSETTO:-0500
TZNAME:CDT
DTSTART:20250309T080000
END:DAYLIGHT
BEGIN:STANDARD
TZOFFSETFROM:-0500
TZOFFSETTO:-0600
TZNAME:CST
DTSTART:20251102T070000
END:STANDARD
BEGIN:DAYLIGHT
TZOFFSETFROM:-0600
TZOFFSETTO:-0500
TZNAME:CDT
DTSTART:20260308T080000
END:DAYLIGHT
BEGIN:STANDARD
TZOFFSETFROM:-0500
TZOFFSETTO:-0600
TZNAME:CST
DTSTART:20261101T070000
END:STANDARD
BEGIN:DAYLIGHT
TZOFFSETFROM:-0600
TZOFFSETTO:-0500
TZNAME:CDT
DTSTART:20270314T080000
END:DAYLIGHT
BEGIN:STANDARD
TZOFFSETFROM:-0500
TZOFFSETTO:-0600
TZNAME:CST
DTSTART:20271107T070000
END:STANDARD
END:VTIMEZONE
BEGIN:VEVENT
DTSTART;TZID=America/Chicago:20260423T173000
DTEND;TZID=America/Chicago:20260423T193000
DTSTAMP:20260423T052525
CREATED:20260116T170031Z
LAST-MODIFIED:20260116T170031Z
UID:10000690-1776965400-1776972600@georgeohr.org
SUMMARY:Family Craft Night : Head in the Clouds
DESCRIPTION:Float into creativity at Head in the Clouds\, a family craft night where everyone can make hats inspired by fluffy clouds! Using cotton\, paper\, tulle\, and other soft and sparkly materials\, families will design and decorate wearable cloud creations that are as whimsical and unique as their makers.\nThis hands-on activity encourages imagination\, playful expression\, and family bonding\, while showing how simple materials can be transformed into magical wearable art. All supplies are provided\, and no crafting experience is needed—just bring your creativity and get ready to put your head in the clouds! \nInstructor: Tressie Fellman \nRefunds less credit card fees are available up to 7 days before the class begins. After that period\, the fee is non-refundable. However\, you may transfer your ticket to a friend.
URL:https://georgeohr.org/event/family-craft-night-4-23/
LOCATION:Museum Welcome Center\, 386 Beach Blvd\, Biloxi\, MS\, 39530\, United States
CATEGORIES:Art Classes,Family Art
ATTACH;FMTTYPE=image/jpeg:https://georgeohr.org/wp-content/uploads/2026/01/head-clouds.jpg
END:VEVENT
END:VCALENDAR