BEGIN:VCALENDAR
VERSION:2.0
PRODID:-//Ohr-O&#039;Keefe Museum of Art - ECPv6.15.20//NONSGML v1.0//EN
CALSCALE:GREGORIAN
METHOD:PUBLISH
X-WR-CALNAME:Ohr-O&#039;Keefe Museum of Art
X-ORIGINAL-URL:https://georgeohr.org
X-WR-CALDESC:Events for Ohr-O&#039;Keefe Museum of Art
REFRESH-INTERVAL;VALUE=DURATION:PT1H
X-Robots-Tag:noindex
X-PUBLISHED-TTL:PT1H
BEGIN:VTIMEZONE
TZID:America/Chicago
BEGIN:DAYLIGHT
TZOFFSETFROM:-0600
TZOFFSETTO:-0500
TZNAME:CDT
DTSTART:20250309T080000
END:DAYLIGHT
BEGIN:STANDARD
TZOFFSETFROM:-0500
TZOFFSETTO:-0600
TZNAME:CST
DTSTART:20251102T070000
END:STANDARD
BEGIN:DAYLIGHT
TZOFFSETFROM:-0600
TZOFFSETTO:-0500
TZNAME:CDT
DTSTART:20260308T080000
END:DAYLIGHT
BEGIN:STANDARD
TZOFFSETFROM:-0500
TZOFFSETTO:-0600
TZNAME:CST
DTSTART:20261101T070000
END:STANDARD
BEGIN:DAYLIGHT
TZOFFSETFROM:-0600
TZOFFSETTO:-0500
TZNAME:CDT
DTSTART:20270314T080000
END:DAYLIGHT
BEGIN:STANDARD
TZOFFSETFROM:-0500
TZOFFSETTO:-0600
TZNAME:CST
DTSTART:20271107T070000
END:STANDARD
END:VTIMEZONE
BEGIN:VEVENT
DTSTART;TZID=America/Chicago:20260322T130000
DTEND;TZID=America/Chicago:20260322T150000
DTSTAMP:20260421T072135
CREATED:20260223T154335Z
LAST-MODIFIED:20260223T183941Z
UID:10000718-1774184400-1774191600@georgeohr.org
SUMMARY:Pinch Pot Bunnies Family Class
DESCRIPTION:Join us for a fun family clay activity for children & their parents to create some adorable ceramic bunnies. Each student will make 2 bunnies\, choose a glaze color and leave them in the studio to be glazed and fired. Bunnies are ready for pick-up approximately two weeks following your class date. This project allows participants the opportunity to experience clay sculpture on a basic level. \nPlace: Center for Ceramics Studio\nInstructor: Lara Blanchard\nLevel: Ages 6-Adult – parent or guardian must also register for class\nClass Max: 10 students \nRefunds less credit card fees are available up to 7 days before the class begins. After that period\, the fee is non-refundable. However\, you may transfer your ticket to a friend
URL:https://georgeohr.org/event/bunnies/
LOCATION:City of Biloxi Center for Ceramics\, 386 Beach Blvd\, Biloxi\, MS\, 39530\, United States
CATEGORIES:Ceramics Studio,Family
ATTACH;FMTTYPE=image/jpeg:https://georgeohr.org/wp-content/uploads/2026/02/pinch-pot-bunnies.jpg
ORGANIZER;CN="Darryl ODonnell":MAILTO:ceramics@georgeohr.org
END:VEVENT
BEGIN:VEVENT
DTSTART;TZID=America/Chicago:20260324T180000
DTEND;TZID=America/Chicago:20260324T200000
DTSTAMP:20260421T072135
CREATED:20250223T150028Z
LAST-MODIFIED:20260223T154734Z
UID:10000662-1774375200-1774382400@georgeohr.org
SUMMARY:Family Frog Wall Pocket
DESCRIPTION:Join us for an amazing\, creative experience. You will learn basic hand building techniques\, working with slabs\, template\, textures and sprig molds to create a beautiful vase /planter perfect for use inside or out. \nChoose a glaze color and we will glaze and fire your creation. It will be read for pick up in 2-3 weeks. No previous experience necessary for the workshop. Beginners\, experts\, all levels of ability are welcome. All tools and clay will be provided by the studio. \nNote: the example photo is unglazed. \nTime: Tuesday 6-8 pm\nInstructor: Laura Blanchard\nLevel: Age 12 and up parent or guardian must also register for class. \nRefunds less credit card fees are available up to 7 days before the class begins. After that period\, the fee is non-refundable. However\, you may transfer your ticket to a friend.
URL:https://georgeohr.org/event/wall-pocket/
LOCATION:City of Biloxi Center for Ceramics\, 386 Beach Blvd\, Biloxi\, MS\, 39530\, United States
CATEGORIES:Ceramics Studio,Family,Single Session Classes
ATTACH;FMTTYPE=image/jpeg:https://georgeohr.org/wp-content/uploads/2025/12/frog.jpeg
ORGANIZER;CN="Darryl ODonnell":MAILTO:ceramics@georgeohr.org
END:VEVENT
BEGIN:VEVENT
DTSTART;TZID=America/Chicago:20260327T180000
DTEND;TZID=America/Chicago:20260327T200000
DTSTAMP:20260421T072135
CREATED:20251231T151401Z
LAST-MODIFIED:20251231T151401Z
UID:10000668-1774634400-1774641600@georgeohr.org
SUMMARY:Date Night Wheel
DESCRIPTION:Date Night: Pottery on the Wheel\nLooking for a unique night out? Grab your partner and head to the Ohr-O’Keefe Museum of Art for a creative evening inspired by the one and only George Ohr\, the “Mad Potter of Biloxi.” \nDuring this fun and relaxed session\, couples will get hands-on experience at the pottery wheel. In this fun\, beginner-friendly class\, our instructors will guide you step-by-step as you learn the basics of wheel throwing and create two ceramic pots to keep. \nWe’ll glaze and fire your pieces after class\, and they’ll be ready for pickup in about two weeks. Out-of-town visitors? We can ship your finished work for an additional fee. \nBring a date\, wear clothes you can get dirty\, and get ready to make memories (and maybe a little mess) in the spirit of Biloxi’s most eccentric artist. \nPlace: Biloxi Center for Ceramics\nCost: $45 per person (tickets are sold per person not per couple)\nLevel: Ages 18 and up\nClass Limit: 10 students per session \nRefunds less credit card fee are available up to 7 days before the class begins. After that period\, the fee is non-refundable. However\, you may transfer your ticket to a friend.
URL:https://georgeohr.org/event/date-night-wheel-3-27/
LOCATION:City of Biloxi Center for Ceramics\, 386 Beach Blvd\, Biloxi\, MS\, 39530\, United States
CATEGORIES:Adult,Ceramics Studio,Try the Wheel
ATTACH;FMTTYPE=image/jpeg:https://georgeohr.org/wp-content/uploads/2022/11/date-night-2.jpg
ORGANIZER;CN="Darryl ODonnell":MAILTO:ceramics@georgeohr.org
END:VEVENT
BEGIN:VEVENT
DTSTART;TZID=America/Chicago:20260328T103000
DTEND;TZID=America/Chicago:20260328T123000
DTSTAMP:20260421T072135
CREATED:20251231T151828Z
LAST-MODIFIED:20251231T151828Z
UID:10000670-1774693800-1774701000@georgeohr.org
SUMMARY:Mudslingers Wheel Class
DESCRIPTION:Mudslingers: Pottery for Beginners\nEver wondered what it’s like to throw clay on a pottery wheel? Come give it a spin at the Ohr-O’Keefe Museum of Art\, inspired by the innovative spirit of George Ohr\, the “Mad Potter of Biloxi.” \nIn this fun\, beginner-friendly class\, our instructors will guide you step-by-step as you learn the basics of wheel throwing and create two ceramic pots to keep. \nAfter class\, we’ll glaze and fire your pieces—ready for pickup about two weeks later. Live out of town? We’re happy to ship your finished work for an additional fee. \nNo experience needed—just wear clothes you can get messy and come ready to play with clay\, right here where George Ohr’s legacy lives on! \nPlace: Biloxi Center for Ceramics\nCost: $45 per person\nLevel: Ages 18 and up\nClass Limit: 10 students per session \nRefunds less credit card fee are available up to 7 days before the class begins. After that period\, the fee is non-refundable. However\, you may transfer your ticket to a friend.
URL:https://georgeohr.org/event/mudslingers-wheel-class-3-28/
LOCATION:City of Biloxi Center for Ceramics\, 386 Beach Blvd\, Biloxi\, MS\, 39530\, United States
CATEGORIES:Adult,Ceramics Studio,Try the Wheel
ATTACH;FMTTYPE=image/jpeg:https://georgeohr.org/wp-content/uploads/2022/08/mudslinger.jpg
ORGANIZER;CN="Darryl ODonnell":MAILTO:ceramics@georgeohr.org
END:VEVENT
END:VCALENDAR